BEGIN:VCALENDAR
VERSION:2.0
PRODID:-//Dawn Barclay - ECPv6.15.16.1//NONSGML v1.0//EN
CALSCALE:GREGORIAN
METHOD:PUBLISH
X-WR-CALNAME:Dawn Barclay
X-ORIGINAL-URL:https://dawnbarclay.com
X-WR-CALDESC:Events for Dawn Barclay
REFRESH-INTERVAL;VALUE=DURATION:PT1H
X-Robots-Tag:noindex
X-PUBLISHED-TTL:PT1H
BEGIN:VTIMEZONE
TZID:Europe/London
BEGIN:DAYLIGHT
TZOFFSETFROM:+0000
TZOFFSETTO:+0100
TZNAME:BST
DTSTART:20160327T010000
END:DAYLIGHT
BEGIN:STANDARD
TZOFFSETFROM:+0100
TZOFFSETTO:+0000
TZNAME:GMT
DTSTART:20161030T010000
END:STANDARD
BEGIN:DAYLIGHT
TZOFFSETFROM:+0000
TZOFFSETTO:+0100
TZNAME:BST
DTSTART:20170326T010000
END:DAYLIGHT
BEGIN:STANDARD
TZOFFSETFROM:+0100
TZOFFSETTO:+0000
TZNAME:GMT
DTSTART:20171029T010000
END:STANDARD
BEGIN:DAYLIGHT
TZOFFSETFROM:+0000
TZOFFSETTO:+0100
TZNAME:BST
DTSTART:20180325T010000
END:DAYLIGHT
BEGIN:STANDARD
TZOFFSETFROM:+0100
TZOFFSETTO:+0000
TZNAME:GMT
DTSTART:20181028T010000
END:STANDARD
END:VTIMEZONE
BEGIN:VEVENT
DTSTART;TZID=Europe/London:20170727T180000
DTEND;TZID=Europe/London:20170727T213000
DTSTAMP:20260423T232741
CREATED:20170703T130535Z
LAST-MODIFIED:20170703T142123Z
UID:31061-1501178400-1501191000@dawnbarclay.com
SUMMARY:Moxie Campfire (27th July) 2017
DESCRIPTION:Details:\nWhat: Moxie Campfire\nWhen: 27th July 2017\nWhen 6.00 – 9.30 pm\nWhere: Number 58\, 58 Main Street\, Gorebridge\, UK View Map \nYou are on the booking page for this event\, for full campfire details and information please click here. \nBook Your Spot\nChoose the number of tickets from the drop-down below and click on pay now*. \n012345678910111213141516Moxie Campfire 27th July 201710.00 GBPBooking for Moxie CampfireFurther information will be sent to you within 24 hours of booking to the email address you have used to booked.\n*You will be taken to PayPal (secure) to finish booking (you don’t need a PayPal account\, choose ‘pay as guest’ if you prefer. You will receive a receipt from PayPal\, as soon as I see your booking come through I will you will receive a Welcome email from me.
URL:https://dawnbarclay.com/events/moxie-campfire-27th-july-2017/
LOCATION:Number 58\, 58 Main Street\, Gorebridge\, Midlothian\, EH23 4BY\, United Kingdom
CATEGORIES:Campfires
END:VEVENT
END:VCALENDAR